BEGIN:VCALENDAR
VERSION:2.0
PRODID:-//Plone.org//NONSGML plone.app.event//EN
X-WR-TIMEZONE:Europe/Madrid
BEGIN:VEVENT
SUMMARY:GR-5 Tram 1: Canet de Mar - Sant Celoni
DTSTART;TZID=Europe/Madrid;VALUE=DATE-TIME:20130113T073000
DTEND;TZID=Europe/Madrid;VALUE=DATE-TIME:20130113T083000
DTSTAMP;VALUE=DATE-TIME:20260422T145347Z
UID:df5ceea91010a519b8a528591d59edb9
CREATED;VALUE=DATE-TIME:20130113T000000Z
CATEGORIES:Esports
LOCATION:Plaça Comte del Montseny - Plaça Comte del Montseny
COMMENT:Preu: Preu Autocar: Socis CESC 13 euros. No socis 20 euros. Menors 14 anys 7 euros.
DESCRIPTION:Activitats del CESC - Secció Senders
URL:https://www.santceloni.cat/document.php?id=10064
END:VEVENT
END:VCALENDAR