BEGIN:VCALENDAR
VERSION:2.0
PRODID:-//Plone.org//NONSGML plone.app.event//EN
X-WR-TIMEZONE:Europe/Madrid
BEGIN:VEVENT
SUMMARY:Mercedes Sanceledonio. Dibuixos i pintures
DTSTART;TZID=Europe/Madrid;VALUE=DATE-TIME:20121222T180000
DTEND;TZID=Europe/Madrid;VALUE=DATE-TIME:20121222T190000
DTSTAMP;VALUE=DATE-TIME:20260422T193947Z
UID:2fe5a39672e19c5f12be8eea46e0b752
CREATED;VALUE=DATE-TIME:20121222T000000Z
CATEGORIES:Exposició
LOCATION:Can Ramis - Pl. de la Vila, 25
DESCRIPTION:Inauguració de l'exposició
URL:https://www.santceloni.cat/document.php?id=10224
END:VEVENT
END:VCALENDAR