BEGIN:VCALENDAR
VERSION:2.0
PRODID:-//Plone.org//NONSGML plone.app.event//EN
X-WR-TIMEZONE:Europe/Madrid
BEGIN:VEVENT
SUMMARY:Estampes de Nadal
DTSTART;TZID=Europe/Madrid;VALUE=DATE-TIME:20121222T180000
DTEND;TZID=Europe/Madrid;VALUE=DATE-TIME:20121222T190000
DTSTAMP;VALUE=DATE-TIME:20260422T155440Z
UID:681e8865538e5ef69c46c046e73d9554
CREATED;VALUE=DATE-TIME:20121222T000000Z
LOCATION:Carrer Major de Dalt (Vilanova) - Carrer Major
URL:https://www.santceloni.cat/document.php?id=10228
END:VEVENT
END:VCALENDAR