BEGIN:VCALENDAR
VERSION:2.0
PRODID:-//Plone.org//NONSGML plone.app.event//EN
X-WR-TIMEZONE:Europe/Madrid
BEGIN:VEVENT
SUMMARY:Els 3 tombs, a càrrec de Glòria Arrufat
DTSTART;TZID=Europe/Madrid;VALUE=DATE-TIME:20130118T180000
DTEND;TZID=Europe/Madrid;VALUE=DATE-TIME:20130118T190000
DTSTAMP;VALUE=DATE-TIME:20260422T200151Z
UID:2fb4149367d8e206c829be49d478b3fa
CREATED;VALUE=DATE-TIME:20130118T000000Z
CATEGORIES:Infantils
LOCATION:Biblioteca l'Escorxador - Pg. de la Rectoria Vella, 10
DESCRIPTION:Hora del conte
URL:https://www.santceloni.cat/document.php?id=10266
END:VEVENT
END:VCALENDAR