BEGIN:VCALENDAR
VERSION:2.0
PRODID:-//Plone.org//NONSGML plone.app.event//EN
X-WR-TIMEZONE:Europe/Madrid
BEGIN:VEVENT
SUMMARY:Com regular de manera eficaç el nostre pes..., a càrrec de Mentxu Da Vinci
DTSTART;TZID=Europe/Madrid;VALUE=DATE-TIME:20130124T190000
DTEND;TZID=Europe/Madrid;VALUE=DATE-TIME:20130124T200000
DTSTAMP;VALUE=DATE-TIME:20260422T165945Z
UID:1ab91ba6d7ffc212dd4a95e528e83d95
CREATED;VALUE=DATE-TIME:20130124T000000Z
CATEGORIES:Conferència
LOCATION:Biblioteca l'Escorxador - Pg. de la Rectoria Vella, 10
DESCRIPTION:Xerrada per a adults
URL:https://www.santceloni.cat/document.php?id=10267
END:VEVENT
END:VCALENDAR