BEGIN:VCALENDAR
VERSION:2.0
PRODID:-//Plone.org//NONSGML plone.app.event//EN
X-WR-TIMEZONE:Europe/Madrid
BEGIN:VEVENT
SUMMARY:L'arbre al qual, en comptes de cireres, li creixien contes, a càrrec de Raquel de Manuel
DTSTART;TZID=Europe/Madrid;VALUE=DATE-TIME:20130125T183000
DTEND;TZID=Europe/Madrid;VALUE=DATE-TIME:20130125T193000
DTSTAMP;VALUE=DATE-TIME:20260422T205316Z
UID:154cede66cb3a387ee4bd7ce9c526401
CREATED;VALUE=DATE-TIME:20130125T000000Z
CATEGORIES:Infantils
LOCATION:Biblioteca de la Batllòria - Major, 15 (la Batllòria)
DESCRIPTION:Hora del Conte a la Batllòria
URL:https://www.santceloni.cat/document.php?id=10269
END:VEVENT
END:VCALENDAR