BEGIN:VCALENDAR
VERSION:2.0
PRODID:-//Plone.org//NONSGML plone.app.event//EN
X-WR-TIMEZONE:Europe/Madrid
BEGIN:VEVENT
SUMMARY:Ball
DTSTART;TZID=Europe/Madrid;VALUE=DATE-TIME:20130120T180000
DTEND;TZID=Europe/Madrid;VALUE=DATE-TIME:20130120T190000
DTSTAMP;VALUE=DATE-TIME:20260422T175130Z
UID:b954d9b4795c0f0d3292213ca95ea252
CREATED;VALUE=DATE-TIME:20130120T000000Z
CATEGORIES:Dansa,Música
LOCATION:Sala gran de l'Ateneu - Germà Emilià, 1
ORGANIZER:Associació de Gent Gran de l'Esplai
COMMENT:Preu: Socis, 4 &euro;. No socis, 5 &euro;
DESCRIPTION:Gent Gran de l'Esplai
URL:https://www.santceloni.cat/document.php?id=10283
END:VEVENT
END:VCALENDAR