BEGIN:VCALENDAR
VERSION:2.0
PRODID:-//Plone.org//NONSGML plone.app.event//EN
X-WR-TIMEZONE:Europe/Madrid
BEGIN:VEVENT
SUMMARY:ANUL·LAT Sopar de germanor
DTSTART;TZID=Europe/Madrid;VALUE=DATE-TIME:20130202T213000
DTEND;TZID=Europe/Madrid;VALUE=DATE-TIME:20130202T223000
DTSTAMP;VALUE=DATE-TIME:20260422T182858Z
UID:e1c857df393d1bccb19b06f8d2c1cb92
CREATED;VALUE=DATE-TIME:20130202T000000Z
CATEGORIES:Festa
DESCRIPTION:Festa de Sant Antoni Abat
URL:https://www.santceloni.cat/document.php?id=10368
END:VEVENT
END:VCALENDAR