BEGIN:VCALENDAR
VERSION:2.0
PRODID:-//Plone.org//NONSGML plone.app.event//EN
X-WR-TIMEZONE:Europe/Madrid
BEGIN:VEVENT
SUMMARY:Tocadits, amb Tantàgora
DTSTART;TZID=Europe/Madrid;VALUE=DATE-TIME:20130215T173000
DTEND;TZID=Europe/Madrid;VALUE=DATE-TIME:20130215T183000
DTSTAMP;VALUE=DATE-TIME:20260421T184546Z
UID:ddb68ff664343e52eb5d13828807f42f
CREATED;VALUE=DATE-TIME:20130215T000000Z
CATEGORIES:Infantils
LOCATION:Biblioteca l'Escorxador - Pg. de la Rectoria Vella, 10
DESCRIPTION:2a Setmana Literària - Petita hora del conte
URL:https://www.santceloni.cat/document.php?id=10391
END:VEVENT
END:VCALENDAR