BEGIN:VCALENDAR
VERSION:2.0
PRODID:-//Plone.org//NONSGML plone.app.event//EN
X-WR-TIMEZONE:Europe/Madrid
BEGIN:VEVENT
SUMMARY:Uf, quin dissabte, rateta Arbequina!, amb Martina Escoda
DTSTART;TZID=Europe/Madrid;VALUE=DATE-TIME:20130216T110000
DTEND;TZID=Europe/Madrid;VALUE=DATE-TIME:20130216T120000
DTSTAMP;VALUE=DATE-TIME:20260422T112108Z
UID:319ca499df7d080ba30b042a3a5ce446
CREATED;VALUE=DATE-TIME:20130216T000000Z
CATEGORIES:Infantils
LOCATION:Biblioteca l'Escorxador - Pg. de la Rectoria Vella, 10
DESCRIPTION:2a Setmana Literària
URL:https://www.santceloni.cat/document.php?id=10392
END:VEVENT
END:VCALENDAR