BEGIN:VCALENDAR
VERSION:2.0
PRODID:-//Plone.org//NONSGML plone.app.event//EN
X-WR-TIMEZONE:Europe/Madrid
BEGIN:VEVENT
SUMMARY:Teatre familiar: Els petits més grans, amb Artristras
DTSTART;TZID=Europe/Madrid;VALUE=DATE-TIME:20130310T120000
DTEND;TZID=Europe/Madrid;VALUE=DATE-TIME:20130310T130000
DTSTAMP;VALUE=DATE-TIME:20260425T224135Z
UID:5bcb2fb7bcd2924b061e52b5105053f0
CREATED;VALUE=DATE-TIME:20130310T000000Z
CATEGORIES:Infantils,Teatre
LOCATION:Sala petita de l'Ateneu - Germà Emilià, 1
COMMENT:Preu: 5 &euro; (Vegeu descomptes)
Durada: 50 min.
DESCRIPTION:Programació A l'Ateneu 2013
URL:https://www.santceloni.cat/document.php?id=10483
END:VEVENT
END:VCALENDAR