BEGIN:VCALENDAR
VERSION:2.0
PRODID:-//Plone.org//NONSGML plone.app.event//EN
X-WR-TIMEZONE:Europe/Madrid
BEGIN:VEVENT
SUMMARY:Copla: Ojos verdes, Miguel de Molina in memoriam, amb La Barni Teatre
DTSTART;TZID=Europe/Madrid;VALUE=DATE-TIME:20130504T200000
DTEND;TZID=Europe/Madrid;VALUE=DATE-TIME:20130504T210000
DTSTAMP;VALUE=DATE-TIME:20260426T000316Z
UID:16ca0b96bdd4172417ee23b34280432f
CREATED;VALUE=DATE-TIME:20130504T000000Z
CATEGORIES:Música
LOCATION:Sala petita de l'Ateneu - Germà Emilià, 1
COMMENT:Preu: 10 &euro; (Vegeu descomptes)
Durada: 80 min.
DESCRIPTION:Programació A l'Ateneu 2013
URL:https://www.santceloni.cat/document.php?id=10492
END:VEVENT
END:VCALENDAR