BEGIN:VCALENDAR
VERSION:2.0
PRODID:-//Plone.org//NONSGML plone.app.event//EN
X-WR-TIMEZONE:Europe/Madrid
BEGIN:VEVENT
SUMMARY:III Presentació de Primavera
DTSTART;TZID=Europe/Madrid;VALUE=DATE-TIME:20130322T180000
DTEND;TZID=Europe/Madrid;VALUE=DATE-TIME:20130322T190000
DTSTAMP;VALUE=DATE-TIME:20260423T063613Z
UID:4499f8df50dfa98a330545b427fd8a7f
CREATED;VALUE=DATE-TIME:20130322T000000Z
CATEGORIES:Exposició,Mostra
LOCATION:Carrer Major de Dalt (Vilanova)
ORGANIZER:AV Barri del c. Major de Dalt - Vilanova
COMMENT:Durada: Tota la tarda
DESCRIPTION:Activitats de divendres al c. Major de Dalt - Vilanova
URL:https://www.santceloni.cat/document.php?id=10611
END:VEVENT
END:VCALENDAR