BEGIN:VCALENDAR
VERSION:2.0
PRODID:-//Plone.org//NONSGML plone.app.event//EN
X-WR-TIMEZONE:Europe/Madrid
BEGIN:VEVENT
SUMMARY:III Presentació de Primavera
DTSTART;TZID=Europe/Madrid;VALUE=DATE-TIME:20130327T090000
DTEND;TZID=Europe/Madrid;VALUE=DATE-TIME:20130327T100000
DTSTAMP;VALUE=DATE-TIME:20260423T080010Z
UID:f045f80365a2513a5a9bd46b3e4cbfa6
CREATED;VALUE=DATE-TIME:20130327T000000Z
CATEGORIES:Exposició,Mostra
LOCATION:c. Major de Dalt - Vilanova - c. Major de Dalt - Vilanova
ORGANIZER:AV Barri del c. Major de Dalt - Vilanova
COMMENT:Durada: Tot el dia
DESCRIPTION:Activitats de dimecres al c. Major de Dalt - Vilanova
URL:https://www.santceloni.cat/document.php?id=10627
END:VEVENT
END:VCALENDAR