BEGIN:VCALENDAR
VERSION:2.0
PRODID:-//Plone.org//NONSGML plone.app.event//EN
X-WR-TIMEZONE:Europe/Madrid
BEGIN:VEVENT
SUMMARY:III Presentació de Primavera
DTSTART;TZID=Europe/Madrid;VALUE=DATE-TIME:20130328T090000
DTEND;TZID=Europe/Madrid;VALUE=DATE-TIME:20130328T100000
DTSTAMP;VALUE=DATE-TIME:20260423T080027Z
UID:08c8b8acadd4bd7dce73b09518126344
CREATED;VALUE=DATE-TIME:20130328T000000Z
CATEGORIES:Exposició,Mostra
LOCATION:c. Major de Dalt - Vilanova - c. Major de Dalt - Vilanova
ORGANIZER:AV Barri del c. Major de Dalt - Vilanova
COMMENT:Durada: Tot el dia
DESCRIPTION:Activitats de dijous al c. Major de Dalt - Vilanova
URL:https://www.santceloni.cat/document.php?id=10632
END:VEVENT
END:VCALENDAR