BEGIN:VCALENDAR
VERSION:2.0
PRODID:-//Plone.org//NONSGML plone.app.event//EN
X-WR-TIMEZONE:Europe/Madrid
BEGIN:VEVENT
SUMMARY:III Presentació de Primavera
DTSTART;TZID=Europe/Madrid;VALUE=DATE-TIME:20130330T113000
DTEND;TZID=Europe/Madrid;VALUE=DATE-TIME:20130330T123000
DTSTAMP;VALUE=DATE-TIME:20260423T063546Z
UID:c6efd1a1c4600687a4aee7d8aaa2b4a6
CREATED;VALUE=DATE-TIME:20130330T000000Z
CATEGORIES:Mostra,Festa,Infantils
LOCATION:c. Major de Dalt - Vilanova - c. Major de Dalt - Vilanova
ORGANIZER:AV Barri del c. Major de Dalt - Vilanova
COMMENT:Durada: Tot el dia
DESCRIPTION:Activitats de dissabte al c. Major de Dalt - Vilanova
URL:https://www.santceloni.cat/document.php?id=10635
END:VEVENT
END:VCALENDAR