BEGIN:VCALENDAR
VERSION:2.0
PRODID:-//Plone.org//NONSGML plone.app.event//EN
X-WR-TIMEZONE:Europe/Madrid
BEGIN:VEVENT
SUMMARY:Classe de dansa oberta a tothom
DTSTART;TZID=Europe/Madrid;VALUE=DATE-TIME:20130429T180000
DTEND;TZID=Europe/Madrid;VALUE=DATE-TIME:20130429T190000
DTSTAMP;VALUE=DATE-TIME:20260423T053332Z
UID:619303877e9fc3d6e691b56ef7ac145f
CREATED;VALUE=DATE-TIME:20130429T000000Z
LOCATION:Plaça de la Vila - Plaça de la Vila
ORGANIZER:Escola Contrajazz
DESCRIPTION:I mostra de Dansa-Jazz
URL:https://www.santceloni.cat/document.php?id=10749
END:VEVENT
END:VCALENDAR