BEGIN:VCALENDAR
VERSION:2.0
PRODID:-//Plone.org//NONSGML plone.app.event//EN
X-WR-TIMEZONE:Europe/Madrid
BEGIN:VEVENT
SUMMARY:Pujada a peu a Montserrat
DTSTART;TZID=Europe/Madrid;VALUE=DATE-TIME:20130503T160000
DTEND;TZID=Europe/Madrid;VALUE=DATE-TIME:20130503T170000
DTSTAMP;VALUE=DATE-TIME:20260422T001330Z
UID:a16408f8b2778c2659d7c0b17547b858
CREATED;VALUE=DATE-TIME:20130503T000000Z
CATEGORIES:Esports
LOCATION:Pati del Col·legi La Salle
ORGANIZER:La Salle Sant Celoni i Salle Catalunya
COMMENT:Durada: 3 i 4 de maig
DESCRIPTION:Activitat del Col·legi La Salle Sant Celoni
URL:https://www.santceloni.cat/document.php?id=10799
END:VEVENT
END:VCALENDAR