BEGIN:VCALENDAR
VERSION:2.0
PRODID:-//Plone.org//NONSGML plone.app.event//EN
X-WR-TIMEZONE:Europe/Madrid
BEGIN:VEVENT
SUMMARY:Mostra d'entitats 2013
DTSTART;TZID=Europe/Madrid;VALUE=DATE-TIME:20130504T180000
DTEND;TZID=Europe/Madrid;VALUE=DATE-TIME:20130504T190000
DTSTAMP;VALUE=DATE-TIME:20260422T100024Z
UID:cffc90904dbdb5ebc573925dcd110932
CREATED;VALUE=DATE-TIME:20130504T000000Z
CATEGORIES:Mostra,Infantils
LOCATION:Plaça de la Vila - Plaça de la Vila
COMMENT:Durada: De 6 a 9 del vespre
DESCRIPTION:Parades amb els productes i serveis de les entitats celonines
URL:https://www.santceloni.cat/document.php?id=10855
END:VEVENT
END:VCALENDAR