BEGIN:VCALENDAR
VERSION:2.0
PRODID:-//Plone.org//NONSGML plone.app.event//EN
X-WR-TIMEZONE:Europe/Madrid
BEGIN:VEVENT
SUMMARY:Sopar i revetlla popular a la Batllòria
DTSTART;TZID=Europe/Madrid;VALUE=DATE-TIME:20130623T210000
DTEND;TZID=Europe/Madrid;VALUE=DATE-TIME:20130623T220000
DTSTAMP;VALUE=DATE-TIME:20260422T100156Z
UID:b88185637ad1265ec5c9dca3ac59a3b8
CREATED;VALUE=DATE-TIME:20130623T000000Z
CATEGORIES:Festa
LOCATION:Carrer de les Escoles, davant la Pedra de a Pau
DESCRIPTION:Nit de Sant Joan
URL:https://www.santceloni.cat/document.php?id=11006
END:VEVENT
END:VCALENDAR