BEGIN:VCALENDAR
VERSION:2.0
PRODID:-//Plone.org//NONSGML plone.app.event//EN
X-WR-TIMEZONE:Europe/Madrid
BEGIN:VEVENT
SUMMARY:Concert: Le PimPamPum
DTSTART;TZID=Europe/Madrid;VALUE=DATE-TIME:20130628T200000
DTEND;TZID=Europe/Madrid;VALUE=DATE-TIME:20130628T210000
DTSTAMP;VALUE=DATE-TIME:20260422T071110Z
UID:77b419824cd39daa82c312b1fb2bf30d
CREATED;VALUE=DATE-TIME:20130628T000000Z
CATEGORIES:Música
LOCATION:La Clau - c. Alguersuari, 16
ORGANIZER:La Clau que obri tots els panys
DESCRIPTION:Concert d'estiu a La Clau
URL:https://www.santceloni.cat/document.php?id=11007
END:VEVENT
END:VCALENDAR