BEGIN:VCALENDAR
VERSION:2.0
PRODID:-//Plone.org//NONSGML plone.app.event//EN
X-WR-TIMEZONE:Europe/Madrid
BEGIN:VEVENT
SUMMARY:Presentació llibre "Històries vagues. Esqueles i gasetilles del Montseny"
DTSTART;TZID=Europe/Madrid;VALUE=DATE-TIME:20130712T200000
DTEND;TZID=Europe/Madrid;VALUE=DATE-TIME:20130712T210000
DTSTAMP;VALUE=DATE-TIME:20260423T102515Z
UID:395100710cd46a4e1ac978c9bcf0bf0c
CREATED;VALUE=DATE-TIME:20130712T000000Z
CATEGORIES:Literatura,Conferència
LOCATION:Sala Bernat Martorell de Can Ramis - Pl. de la Vila, 25
ORGANIZER:Llibreria Alguer Set
DESCRIPTION:A càrrec dels seus autors
URL:https://www.santceloni.cat/document.php?id=11038
END:VEVENT
END:VCALENDAR