BEGIN:VCALENDAR
VERSION:2.0
PRODID:-//Plone.org//NONSGML plone.app.event//EN
X-WR-TIMEZONE:Europe/Madrid
BEGIN:VEVENT
SUMMARY:Clown: Great Circus Show, amb El Gran Dimitri
DTSTART;TZID=Europe/Madrid;VALUE=DATE-TIME:20130711T220000
DTEND;TZID=Europe/Madrid;VALUE=DATE-TIME:20130711T230000
DTSTAMP;VALUE=DATE-TIME:20260420T072012Z
UID:850e161bd6898e2551559d1ca08e95a8
CREATED;VALUE=DATE-TIME:20130711T000000Z
CATEGORIES:Teatre
LOCATION:Plaça de la Biblioteca - Plaça de la Biblioteca
COMMENT:Durada: 50 min.
DESCRIPTION:Dijous a la fresca
URL:https://www.santceloni.cat/document.php?id=11051
END:VEVENT
END:VCALENDAR