BEGIN:VCALENDAR
VERSION:2.0
PRODID:-//Plone.org//NONSGML plone.app.event//EN
X-WR-TIMEZONE:Europe/Madrid
BEGIN:VEVENT
SUMMARY:Aplec Cultural Rebrot
DTSTART;TZID=Europe/Madrid;VALUE=DATE-TIME:20130707T090000
DTEND;TZID=Europe/Madrid;VALUE=DATE-TIME:20130707T100000
DTSTAMP;VALUE=DATE-TIME:20260420T052444Z
UID:bf688a00e2acf2caef7781704b820c44
CREATED;VALUE=DATE-TIME:20130707T000000Z
CATEGORIES:Festa,Conferència
LOCATION:Rectoria Vella - Parc de la Rectoria Vella, s/n
DESCRIPTION:Del 4 al 7 de juliol
URL:https://www.santceloni.cat/document.php?id=11097
END:VEVENT
END:VCALENDAR