BEGIN:VCALENDAR
VERSION:2.0
PRODID:-//Plone.org//NONSGML plone.app.event//EN
X-WR-TIMEZONE:Europe/Madrid
BEGIN:VEVENT
SUMMARY:Fira de productes alimentaris artesanals del nostre territori
DTSTART;TZID=Europe/Madrid;VALUE=DATE-TIME:20131005T100000
DTEND;TZID=Europe/Madrid;VALUE=DATE-TIME:20131005T110000
DTSTAMP;VALUE=DATE-TIME:20260424T141447Z
UID:bbefe8faa9f41eb71ab4de36435e57cb
CREATED;VALUE=DATE-TIME:20131005T000000Z
CATEGORIES:Mostra
LOCATION:Plaça de la Vila - Plaça de la Vila
COMMENT:Durada: fins les 20.30 h
DESCRIPTION:Tardor gastronòmica 2013
URL:https://www.santceloni.cat/document.php?id=11489
END:VEVENT
END:VCALENDAR