BEGIN:VCALENDAR
VERSION:2.0
PRODID:-//Plone.org//NONSGML plone.app.event//EN
X-WR-TIMEZONE:Europe/Madrid
BEGIN:VEVENT
SUMMARY:Tast de formatges catalans de pastor
DTSTART;TZID=Europe/Madrid;VALUE=DATE-TIME:20131011T190000
DTEND;TZID=Europe/Madrid;VALUE=DATE-TIME:20131011T200000
DTSTAMP;VALUE=DATE-TIME:20260422T053045Z
UID:c3816be3003bdb87c565adf22a9b551b
CREATED;VALUE=DATE-TIME:20131011T000000Z
CATEGORIES:Mostra
LOCATION:Sala Bernat Martorell de Can Ramis - Pl. de la Vila, 25
ORGANIZER:Actitud's
COMMENT:Preu: 10 &euro; (venda de tiquets a la Pastisseria Lleonart)
DESCRIPTION:Tardor gastronòmica 2013
URL:https://www.santceloni.cat/document.php?id=11493
END:VEVENT
END:VCALENDAR