BEGIN:VCALENDAR
VERSION:2.0
PRODID:-//Plone.org//NONSGML plone.app.event//EN
X-WR-TIMEZONE:Europe/Madrid
BEGIN:VEVENT
SUMMARY:Mostra de tapes i platets de tardor
DTSTART;TZID=Europe/Madrid;VALUE=DATE-TIME:20131012T190000
DTEND;TZID=Europe/Madrid;VALUE=DATE-TIME:20131012T200000
DTSTAMP;VALUE=DATE-TIME:20260422T051946Z
UID:d4a4bb00d1f385f5e8d543ea4cf03d3d
CREATED;VALUE=DATE-TIME:20131012T000000Z
LOCATION:Plaça de la Vila - Plaça de la Vila
COMMENT:Preu: 6 &euro; (4 tiquets de menjar, 2 de begudes i 1 copa o got), el mateix dia
DESCRIPTION:Tardor gastronòmica 2013
URL:https://www.santceloni.cat/document.php?id=11494
END:VEVENT
END:VCALENDAR