BEGIN:VCALENDAR
VERSION:2.0
PRODID:-//Plone.org//NONSGML plone.app.event//EN
X-WR-TIMEZONE:Europe/Madrid
BEGIN:VEVENT
SUMMARY:Sopar-maridatge
DTSTART;TZID=Europe/Madrid;VALUE=DATE-TIME:20131025T210000
DTEND;TZID=Europe/Madrid;VALUE=DATE-TIME:20131025T220000
DTSTAMP;VALUE=DATE-TIME:20260422T054923Z
UID:6a996b309baa420600b72d62f34395c7
CREATED;VALUE=DATE-TIME:20131025T000000Z
LOCATION:Restaurant Els Avets
COMMENT:Preu: 25 &euro; per persona
DESCRIPTION:Tardor gastronòmica 2013
URL:https://www.santceloni.cat/document.php?id=11502
END:VEVENT
END:VCALENDAR