BEGIN:VCALENDAR
VERSION:2.0
PRODID:-//Plone.org//NONSGML plone.app.event//EN
X-WR-TIMEZONE:Europe/Madrid
BEGIN:VEVENT
SUMMARY:UltraBike, I ultramarató de BTT amb inici i final a Sant Celoni
DTSTART;TZID=Europe/Madrid;VALUE=DATE-TIME:20131004T203000
DTEND;TZID=Europe/Madrid;VALUE=DATE-TIME:20131004T213000
DTSTAMP;VALUE=DATE-TIME:20260420T072027Z
UID:fcbc5f746d8b332e58ef7d315f73b9c6
CREATED;VALUE=DATE-TIME:20131004T000000Z
CATEGORIES:Esports,Conferència
LOCATION:Sala Bernat Martorell de Can Ramis - Pl. de la Vila, 25
ORGANIZER:BestTrail
DESCRIPTION:Presentació de la prova a la Sala Bernat Martorell de Can Ramis
URL:https://www.santceloni.cat/document.php?id=11542
END:VEVENT
END:VCALENDAR