BEGIN:VCALENDAR
VERSION:2.0
PRODID:-//Plone.org//NONSGML plone.app.event//EN
X-WR-TIMEZONE:Europe/Madrid
BEGIN:VEVENT
SUMMARY:Muntanyisme: Ponis de la Brisa
DTSTART;TZID=Europe/Madrid;VALUE=DATE-TIME:20131019T070000
DTEND;TZID=Europe/Madrid;VALUE=DATE-TIME:20131019T080000
DTSTAMP;VALUE=DATE-TIME:20260421T102659Z
UID:71bbe398a4f9d1c67135dc5b5fe5bb7b
CREATED;VALUE=DATE-TIME:20131019T000000Z
CATEGORIES:Esports
LOCATION:Plaça Comte del Montseny - Plaça Comte del Montseny
COMMENT:Durada: Cap de setmana
DESCRIPTION:Activitats del CESC
URL:https://www.santceloni.cat/document.php?id=11590
END:VEVENT
END:VCALENDAR