BEGIN:VCALENDAR
VERSION:2.0
PRODID:-//Plone.org//NONSGML plone.app.event//EN
X-WR-TIMEZONE:Europe/Madrid
BEGIN:VEVENT
SUMMARY:Festes de Nadal 2013-2014
DTSTART;TZID=Europe/Madrid;VALUE=DATE-TIME:20131221T100000
DTEND;TZID=Europe/Madrid;VALUE=DATE-TIME:20131221T110000
DTSTAMP;VALUE=DATE-TIME:20260423T033154Z
UID:4e11987011c32778962eaa9e7ea0eb18
CREATED;VALUE=DATE-TIME:20131221T000000Z
CATEGORIES:Dansa,Festa
LOCATION:Diversos indrets de la Vila
COMMENT:Durada: Tot el dia
DESCRIPTION:Activitats de dissabte, dia 21
URL:https://www.santceloni.cat/document.php?id=11851
END:VEVENT
END:VCALENDAR