BEGIN:VCALENDAR
VERSION:2.0
PRODID:-//Plone.org//NONSGML plone.app.event//EN
X-WR-TIMEZONE:Europe/Madrid
BEGIN:VEVENT
SUMMARY:Exhibició i Tallers d'Skate
DTSTART;TZID=Europe/Madrid;VALUE=DATE-TIME:20140104T113000
DTEND;TZID=Europe/Madrid;VALUE=DATE-TIME:20140104T123000
DTSTAMP;VALUE=DATE-TIME:20260423T124856Z
UID:eb4b0fa4df507205d6acc1b5898a8604
CREATED;VALUE=DATE-TIME:20140104T000000Z
CATEGORIES:Esports,Mostra
LOCATION:Plaça de la Vila - Plaça de la Vila
ORGANIZER:Col·lectiu d'Skate de Sant Celoni
COMMENT:Durada: Tot el dia
DESCRIPTION:Festes de Nadal 2013-2014
URL:https://www.santceloni.cat/document.php?id=11865
END:VEVENT
END:VCALENDAR