BEGIN:VCALENDAR
VERSION:2.0
PRODID:-//Plone.org//NONSGML plone.app.event//EN
X-WR-TIMEZONE:Europe/Madrid
BEGIN:VEVENT
SUMMARY:Arribada i Cavalcada dels Reis d'Orient
DTSTART;TZID=Europe/Madrid;VALUE=DATE-TIME:20140105T180000
DTEND;TZID=Europe/Madrid;VALUE=DATE-TIME:20140105T190000
DTSTAMP;VALUE=DATE-TIME:20260422T234329Z
UID:0509074a4c29562553ff6acdab60e1c3
CREATED;VALUE=DATE-TIME:20140105T000000Z
CATEGORIES:Festa,Infantils
LOCATION:Plaça Comte del Montseny - Plaça Comte del Montseny
DESCRIPTION:Festes de Nadal 2013-2014
URL:https://www.santceloni.cat/document.php?id=11867
END:VEVENT
END:VCALENDAR