BEGIN:VCALENDAR
VERSION:2.0
PRODID:-//Plone.org//NONSGML plone.app.event//EN
X-WR-TIMEZONE:Europe/Madrid
BEGIN:VEVENT
SUMMARY:Els calaixos del cel, amb Ada Cusidó
DTSTART;TZID=Europe/Madrid;VALUE=DATE-TIME:20140124T173000
DTEND;TZID=Europe/Madrid;VALUE=DATE-TIME:20140124T183000
DTSTAMP;VALUE=DATE-TIME:20260423T022202Z
UID:75897040bc60ba41da67c2643a228276
CREATED;VALUE=DATE-TIME:20140124T000000Z
CATEGORIES:Infantils
LOCATION:Biblioteca de l'Escola Montnegre - Escoles, 2 (la Batllòria)
DESCRIPTION:Hora del conte a la Batllòria
URL:https://www.santceloni.cat/document.php?id=12018
END:VEVENT
END:VCALENDAR