BEGIN:VCALENDAR
VERSION:2.0
PRODID:-//Plone.org//NONSGML plone.app.event//EN
X-WR-TIMEZONE:Europe/Madrid
BEGIN:VEVENT
SUMMARY:Ball de disfresses infantil, amb Carles Cuberes i Cia.
DTSTART;TZID=Europe/Madrid;VALUE=DATE-TIME:20140302T180000
DTEND;TZID=Europe/Madrid;VALUE=DATE-TIME:20140302T190000
DTSTAMP;VALUE=DATE-TIME:20260425T013950Z
UID:0fde0bb1c841aeda0eefbda177ce51aa
CREATED;VALUE=DATE-TIME:20140302T000000Z
CATEGORIES:Infantils,Música
LOCATION:Sala gran de l'Ateneu - Germà Emilià, 1
COMMENT:Preu: entrada lliure
Durada: 70 min.
DESCRIPTION:Carnaval i Ball de Gitanes 2014
URL:https://www.santceloni.cat/document.php?id=12075
END:VEVENT
END:VCALENDAR