BEGIN:VCALENDAR
VERSION:2.0
PRODID:-//Plone.org//NONSGML plone.app.event//EN
X-WR-TIMEZONE:Europe/Madrid
BEGIN:VEVENT
SUMMARY:Música: Concert de piano, amb Rafael de Castro
DTSTART;TZID=Europe/Madrid;VALUE=DATE-TIME:20140411T190000
DTEND;TZID=Europe/Madrid;VALUE=DATE-TIME:20140411T200000
DTSTAMP;VALUE=DATE-TIME:20260425T013705Z
UID:5c9930135026f25c9ff9da7acb7ce90c
CREATED;VALUE=DATE-TIME:20140411T000000Z
CATEGORIES:Música
LOCATION:Sala gran de l'Ateneu - Germà Emilià, 1
COMMENT:Preu: 5 . Alumnes de l'Escola M. de Música i menors de 12 anys, 3 
Durada: 100 min.
DESCRIPTION:ATENCIÓ: canvi d'horari
URL:https://www.santceloni.cat/document.php?id=12079
END:VEVENT
END:VCALENDAR