BEGIN:VCALENDAR
VERSION:2.0
PRODID:-//Plone.org//NONSGML plone.app.event//EN
X-WR-TIMEZONE:Europe/Madrid
BEGIN:VEVENT
SUMMARY:Teatre: La increïble història de Peter Pan, amb Rebrot Teatre
DTSTART;TZID=Europe/Madrid;VALUE=DATE-TIME:20140427T180000
DTEND;TZID=Europe/Madrid;VALUE=DATE-TIME:20140427T190000
DTSTAMP;VALUE=DATE-TIME:20260426T062655Z
UID:1df0c39ff94815a1a89bb0ae80ee3d79
CREATED;VALUE=DATE-TIME:20140427T000000Z
CATEGORIES:Teatre
LOCATION:Sala gran de l'Ateneu - Germà Emilià, 1
COMMENT:Preu: 10 
Durada: 90 min.
DESCRIPTION:Programació A l'Ateneu 2014 - Fet a Sant Celoni
URL:https://www.santceloni.cat/document.php?id=12083
END:VEVENT
END:VCALENDAR