BEGIN:VCALENDAR
VERSION:2.0
PRODID:-//Plone.org//NONSGML plone.app.event//EN
X-WR-TIMEZONE:Europe/Madrid
BEGIN:VEVENT
SUMMARY:Dolomites, Alte Vie 2, a càrrec de Ll. Forroll
DTSTART;TZID=Europe/Madrid;VALUE=DATE-TIME:20140411T213000
DTEND;TZID=Europe/Madrid;VALUE=DATE-TIME:20140411T223000
DTSTAMP;VALUE=DATE-TIME:20260423T153957Z
UID:7cb2761d31806e8dd5b88a4497f79da5
CREATED;VALUE=DATE-TIME:20140411T000000Z
CATEGORIES:Esports,Conferència
LOCATION:Sala Bernat Martorell de Can Ramis - Pl. de la Vila, 25
ORGANIZER:CESC - Centre Excursionista Sant Celoni
DESCRIPTION:Cicle d'audiovisuals del CESC - 30 aniversari
URL:https://www.santceloni.cat/document.php?id=12184
END:VEVENT
END:VCALENDAR