BEGIN:VCALENDAR
VERSION:2.0
PRODID:-//Plone.org//NONSGML plone.app.event//EN
X-WR-TIMEZONE:Europe/Madrid
BEGIN:VEVENT
SUMMARY:Ball de l'Esplai a l'Ateneu
DTSTART;TZID=Europe/Madrid;VALUE=DATE-TIME:20140406T180000
DTEND;TZID=Europe/Madrid;VALUE=DATE-TIME:20140406T190000
DTSTAMP;VALUE=DATE-TIME:20260423T124843Z
UID:85c2df0412508f3f27f75da1927251ff
CREATED;VALUE=DATE-TIME:20140406T000000Z
CATEGORIES:Música
LOCATION:Sala gran de l'Ateneu - Germà Emilià, 1
COMMENT:Preu: 3 &euro; socis, 4 &euro; no socis
URL:https://www.santceloni.cat/document.php?id=12208
END:VEVENT
END:VCALENDAR