BEGIN:VCALENDAR
VERSION:2.0
PRODID:-//Plone.org//NONSGML plone.app.event//EN
X-WR-TIMEZONE:Europe/Madrid
BEGIN:VEVENT
SUMMARY:Inscripcions al Banc de Temps de Sant Celoni
DTSTART;TZID=Europe/Madrid;VALUE=DATE-TIME:20140304T170000
DTEND;TZID=Europe/Madrid;VALUE=DATE-TIME:20140304T180000
DTSTAMP;VALUE=DATE-TIME:20260423T060811Z
UID:3ddaa875930a263e3f0a7e611bcd05f1
CREATED;VALUE=DATE-TIME:20140304T000000Z
LOCATION:La Clau - c. Alguersuari, 16
DESCRIPTION:Activitats de La Clau
URL:https://www.santceloni.cat/document.php?id=12256
END:VEVENT
END:VCALENDAR