BEGIN:VCALENDAR
VERSION:2.0
PRODID:-//Plone.org//NONSGML plone.app.event//EN
X-WR-TIMEZONE:Europe/Madrid
BEGIN:VEVENT
SUMMARY:Iniciació a la Marxa Nòrdica
DTSTART;TZID=Europe/Madrid;VALUE=DATE-TIME:20140329T100000
DTEND;TZID=Europe/Madrid;VALUE=DATE-TIME:20140329T110000
DTSTAMP;VALUE=DATE-TIME:20260424T012604Z
UID:0db41861bd4420545dfa85794c09c64c
CREATED;VALUE=DATE-TIME:20140329T000000Z
CATEGORIES:Esports,Cursos
LOCATION:Rectoria Vella - Parc de la Rectoria Vella, s/n
ORGANIZER:Titulats per la FENWA (Federació espanyola de Nòrdic Walking)
COMMENT:Preu: Socis 10 euros. No Socis 12 euros.
Durada: Cap de Setmana (dues matinals de 3 hores)
DESCRIPTION:Activitats del CESC
URL:https://www.santceloni.cat/document.php?id=12265
END:VEVENT
END:VCALENDAR