BEGIN:VCALENDAR
VERSION:2.0
PRODID:-//Plone.org//NONSGML plone.app.event//EN
X-WR-TIMEZONE:Europe/Madrid
BEGIN:VEVENT
SUMMARY:Màster en Muntatge de Reunions d'Escalada i Alpinisme
DTSTART;TZID=Europe/Madrid;VALUE=DATE-TIME:20140406T235900
DTEND;TZID=Europe/Madrid;VALUE=DATE-TIME:20140407T005900
DTSTAMP;VALUE=DATE-TIME:20260423T105745Z
UID:d1b28f89a06d47b20c89f16866930bd9
CREATED;VALUE=DATE-TIME:20140406T000000Z
CATEGORIES:Esports,Cursos
LOCATION:CME Sot de les Granotes - Francesc Macià, 15
ORGANIZER:Instructors Titulats de l'ECAM
COMMENT:Preu: 25 euros. 20 euros socis CESC
DESCRIPTION:Activitats del CESC
URL:https://www.santceloni.cat/document.php?id=12339
END:VEVENT
END:VCALENDAR