BEGIN:VCALENDAR
VERSION:2.0
PRODID:-//Plone.org//NONSGML plone.app.event//EN
X-WR-TIMEZONE:Europe/Madrid
BEGIN:VEVENT
SUMMARY:Revetlla de Sant Jordi
DTSTART;TZID=Europe/Madrid;VALUE=DATE-TIME:20140422T180000
DTEND;TZID=Europe/Madrid;VALUE=DATE-TIME:20140422T190000
DTSTAMP;VALUE=DATE-TIME:20260423T155643Z
UID:23a6ca2aaffac6b1e23792a79e58c9d7
CREATED;VALUE=DATE-TIME:20140422T000000Z
CATEGORIES:Literatura,Teatre
LOCATION:Biblioteca l'Escorxador - Pg. de la Rectoria Vella, 10
COMMENT:Durada: Fins a les 10 del vespre
DESCRIPTION:III Setmana Literària
URL:https://www.santceloni.cat/document.php?id=12381
END:VEVENT
END:VCALENDAR