BEGIN:VCALENDAR
VERSION:2.0
PRODID:-//Plone.org//NONSGML plone.app.event//EN
X-WR-TIMEZONE:Europe/Madrid
BEGIN:VEVENT
SUMMARY:Ball de l'Esplai a l'Ateneu
DTSTART;TZID=Europe/Madrid;VALUE=DATE-TIME:20140720T180000
DTEND;TZID=Europe/Madrid;VALUE=DATE-TIME:20140720T190000
DTSTAMP;VALUE=DATE-TIME:20260424T030512Z
UID:eb03aa9cfeb06b99098d2491fab30157
CREATED;VALUE=DATE-TIME:20140720T000000Z
CATEGORIES:Música
LOCATION:Teatre Municipal Ateneu, Sala Gran - Germà Emilià, 1
COMMENT:Preu: 3 &euro; socis, 4 &euro; no socis
DESCRIPTION:Ball amb Moncayo
URL:https://www.santceloni.cat/document.php?id=12464
END:VEVENT
END:VCALENDAR