BEGIN:VCALENDAR
VERSION:2.0
PRODID:-//Plone.org//NONSGML plone.app.event//EN
X-WR-TIMEZONE:Europe/Madrid
BEGIN:VEVENT
SUMMARY:Presentació del llibre Domingo Catalán. De 0 a 100
DTSTART;TZID=Europe/Madrid;VALUE=DATE-TIME:20140516T203000
DTEND;TZID=Europe/Madrid;VALUE=DATE-TIME:20140516T213000
DTSTAMP;VALUE=DATE-TIME:20260424T020810Z
UID:a415a6fcdb8e64b4e6df632c5ec847ff
CREATED;VALUE=DATE-TIME:20140516T000000Z
CATEGORIES:Esports,Literatura
LOCATION:Sala Bernat Martorell de Can Ramis - Pl. de la Vila, 25
ORGANIZER:Biblioteca l'Escorxador i Llibreria 4 Gats
DESCRIPTION:Tast de llibres
URL:https://www.santceloni.cat/document.php?id=12567
END:VEVENT
END:VCALENDAR