BEGIN:VCALENDAR
VERSION:2.0
PRODID:-//Plone.org//NONSGML plone.app.event//EN
X-WR-TIMEZONE:Europe/Madrid
BEGIN:VEVENT
SUMMARY:Sopar de Celebració dels 30 anys del CESC!
DTSTART;TZID=Europe/Madrid;VALUE=DATE-TIME:20140530T210000
DTEND;TZID=Europe/Madrid;VALUE=DATE-TIME:20140530T220000
DTSTAMP;VALUE=DATE-TIME:20260426T044246Z
UID:71d42d6e786e0f080eb4c6fc2ade13d0
CREATED;VALUE=DATE-TIME:20140530T000000Z
CATEGORIES:Festa
LOCATION:Restaurant La Drecera
COMMENT:Preu: 20 euros.
DESCRIPTION:Activitats del CESC
URL:https://www.santceloni.cat/document.php?id=12577
END:VEVENT
END:VCALENDAR