BEGIN:VCALENDAR
VERSION:2.0
PRODID:-//Plone.org//NONSGML plone.app.event//EN
X-WR-TIMEZONE:Europe/Madrid
BEGIN:VEVENT
SUMMARY:Agromercat
DTSTART;TZID=Europe/Madrid;VALUE=DATE-TIME:20140517T090000
DTEND;TZID=Europe/Madrid;VALUE=DATE-TIME:20140517T100000
DTSTAMP;VALUE=DATE-TIME:20260424T003938Z
UID:a50f3fd2f9402f206a626aa08b94e7b4
CREATED;VALUE=DATE-TIME:20140517T000000Z
CATEGORIES:Mostra
LOCATION:Plaça de la Vila - Plaça de la Vila
COMMENT:Durada: De 9 del matí a les 9 del vespre
DESCRIPTION:Fira de productes del territori
URL:https://www.santceloni.cat/document.php?id=12630
END:VEVENT
END:VCALENDAR