BEGIN:VCALENDAR
VERSION:2.0
PRODID:-//Plone.org//NONSGML plone.app.event//EN
X-WR-TIMEZONE:Europe/Madrid
BEGIN:VEVENT
SUMMARY:Xerrada informativa: Coneixes el Banc de Temps de Sant Celoni?
DTSTART;TZID=Europe/Madrid;VALUE=DATE-TIME:20140529T200000
DTEND;TZID=Europe/Madrid;VALUE=DATE-TIME:20140529T210000
DTSTAMP;VALUE=DATE-TIME:20260426T044943Z
UID:8ec1e2ee996c78cb76b889ab80b8709a
CREATED;VALUE=DATE-TIME:20140529T000000Z
CATEGORIES:Conferència
LOCATION:Biblioteca l'Escorxador - Pg. de la Rectoria Vella, 10
ORGANIZER:Biblioteca l'Escorxador
DESCRIPTION:A càrrec de Sergi Alonso
URL:https://www.santceloni.cat/document.php?id=12651
END:VEVENT
END:VCALENDAR