BEGIN:VCALENDAR
VERSION:2.0
PRODID:-//Plone.org//NONSGML plone.app.event//EN
X-WR-TIMEZONE:Europe/Madrid
BEGIN:VEVENT
SUMMARY:Teatre visual: Somnis de sorra, amb la Cia. Ytuquepintas
DTSTART;TZID=Europe/Madrid;VALUE=DATE-TIME:20140731T220000
DTEND;TZID=Europe/Madrid;VALUE=DATE-TIME:20140731T230000
DTSTAMP;VALUE=DATE-TIME:20260424T074451Z
UID:6155fcfcc72e72e914951f95f9074d5f
CREATED;VALUE=DATE-TIME:20140731T000000Z
CATEGORIES:Teatre
LOCATION:Plaça de la Biblioteca - Plaça de la Biblioteca
COMMENT:Durada: 55 minuts
DESCRIPTION:Dijous a la fresca
URL:https://www.santceloni.cat/document.php?id=12712
END:VEVENT
END:VCALENDAR