BEGIN:VCALENDAR
VERSION:2.0
PRODID:-//Plone.org//NONSGML plone.app.event//EN
X-WR-TIMEZONE:Europe/Madrid
BEGIN:VEVENT
SUMMARY:Oh!fertes al carrer
DTSTART;TZID=Europe/Madrid;VALUE=DATE-TIME:20140801T080000
DTEND;TZID=Europe/Madrid;VALUE=DATE-TIME:20140801T090000
DTSTAMP;VALUE=DATE-TIME:20260424T074424Z
UID:2dd9747f4078c3f24532d5e96935f97c
CREATED;VALUE=DATE-TIME:20140801T000000Z
LOCATION:c. Anselm Clavé - carrer Anselm Clavé, 08470, Sant Celoni
ORGANIZER:Associació de veïns i comerciants Anselm Clavé Centre
COMMENT:Durada: Tarda
DESCRIPTION:Mercat d'ocasió al c. Anselm Clavé
URL:https://www.santceloni.cat/document.php?id=12764
END:VEVENT
END:VCALENDAR